BEGIN:VCALENDAR
VERSION:2.0
PRODID:-//CMA Education Foundation - ECPv5.16.1.1//NONSGML v1.0//EN
CALSCALE:GREGORIAN
METHOD:PUBLISH
X-WR-CALNAME:CMA Education Foundation
X-ORIGINAL-URL:http://websites.geniuservices.com/cmaedu
X-WR-CALDESC:Events for CMA Education Foundation
REFRESH-INTERVAL;VALUE=DURATION:PT1H
X-Robots-Tag:noindex
X-PUBLISHED-TTL:PT1H
BEGIN:VTIMEZONE
TZID:UTC
BEGIN:STANDARD
TZOFFSETFROM:+0000
TZOFFSETTO:+0000
TZNAME:UTC
DTSTART:20220101T000000
END:STANDARD
END:VTIMEZONE
BEGIN:VEVENT
DTSTART;TZID=UTC:20220628T183000
DTEND;TZID=UTC:20220628T193000
DTSTAMP:20260421T040114
CREATED:20220622T201032Z
LAST-MODIFIED:20220622T201032Z
UID:6971-1656441000-1656444600@websites.geniuservices.com
SUMMARY:CMA EF Board Meeting
DESCRIPTION:
URL:http://websites.geniuservices.com/cmaedu/event/cma-ef-board-meeting/
LOCATION:Zoom
ATTACH;FMTTYPE=image/jpeg:http://websites.geniuservices.com/cmaedu/wp-content/uploads/2022/06/id_cma_traced.jpg
ORGANIZER;CN="CMA%20Education%20Foundation":MAILTO:info@cma-edu.org
END:VEVENT
BEGIN:VEVENT
DTSTART;TZID=UTC:20220525T180000
DTEND;TZID=UTC:20220525T210000
DTSTAMP:20260421T040114
CREATED:20220619T154338Z
LAST-MODIFIED:20220622T200735Z
UID:6860-1653501600-1653512400@websites.geniuservices.com
SUMMARY:CMA EF Celebrating 10th Anniversary
DESCRIPTION:
URL:http://websites.geniuservices.com/cmaedu/event/cma-ef-celebrating-10th-anniversary/
LOCATION:Greenwich Water Club
ATTACH;FMTTYPE=image/jpeg:http://websites.geniuservices.com/cmaedu/wp-content/uploads/2022/06/IMG_2556.jpg
ORGANIZER;CN="CMA%20Education%20Foundation":MAILTO:info@cma-edu.org
END:VEVENT
END:VCALENDAR